BEGIN:VCALENDAR
VERSION:2.0
PRODID:-//Colorado Springs Cybersecurity - ECPv5.10.0//NONSGML v1.0//EN
CALSCALE:GREGORIAN
METHOD:PUBLISH
X-WR-CALNAME:Colorado Springs Cybersecurity
X-ORIGINAL-URL:https://coloradospringscybersecurity.com
X-WR-CALDESC:Events for Colorado Springs Cybersecurity
BEGIN:VTIMEZONE
TZID:UTC
BEGIN:STANDARD
TZOFFSETFROM:+0000
TZOFFSETTO:+0000
TZNAME:UTC
DTSTART:20230101T000000
END:STANDARD
END:VTIMEZONE
BEGIN:VEVENT
DTSTART;TZID=UTC:20230106T160000
DTEND;TZID=UTC:20230106T180000
DTSTAMP:20260424T154623
CREATED:20221213T151447Z
LAST-MODIFIED:20230606T175024Z
UID:1341-1673020800-1673028000@coloradospringscybersecurity.com
SUMMARY:Cybersecurity First Friday
DESCRIPTION:Join the Colorado Springs cybersecurity community for socializing and networking. Connect with cyber peers to share information and learn about the region’s growing cybersecurity ecosystem. \nThere is no cost to attend. \nFirst Friday is co-hosted by the Colorado Springs Chamber & EDC and Murray Security Services.
URL:https://coloradospringscybersecurity.com/event/cybersecurity-first-friday-3/2023-01-06/
LOCATION:The National Cybersecurity Center\, 3650 N. Nevada Ave\, Colorado Springs\, CO\, United States
ATTACH;FMTTYPE=image/png:https://coloradospringscybersecurity.com/wp-content/uploads/2021/10/logo.png
ORGANIZER;CN="Chamber%20%26%20EDC%20and%20Murray%20Security%20Services":MAILTO:vpersichetti@cscedc.com
END:VEVENT
END:VCALENDAR