BEGIN:VCALENDAR
VERSION:2.0
PRODID:-//Colorado Springs Cybersecurity - ECPv5.10.0//NONSGML v1.0//EN
CALSCALE:GREGORIAN
METHOD:PUBLISH
X-WR-CALNAME:Colorado Springs Cybersecurity
X-ORIGINAL-URL:https://coloradospringscybersecurity.com
X-WR-CALDESC:Events for Colorado Springs Cybersecurity
BEGIN:VTIMEZONE
TZID:UTC
BEGIN:STANDARD
TZOFFSETFROM:+0000
TZOFFSETTO:+0000
TZNAME:UTC
DTSTART:20220101T000000
END:STANDARD
END:VTIMEZONE
BEGIN:VEVENT
DTSTART;TZID=UTC:20220620T084500
DTEND;TZID=UTC:20220620T154500
DTSTAMP:20260424T214520
CREATED:20220129T180616Z
LAST-MODIFIED:20220129T180616Z
UID:1273-1655714700-1655739900@coloradospringscybersecurity.com
SUMMARY:NSA & UCCS GenCyber High School Teacher Camp (Advanced Level)
DESCRIPTION:If you are a middle or high school teacher interested in cybersecurity\, come join UCCS and learn about how to bring cybersecurity into your classroom. Prior computing and/or cybersecurity experience recommended. This advanced GenCyber teacher camp funded by NSA will provide you with an understanding of the Cybersecurity Principles and meet the goals outlined below. Camp is limited to 16 participants\, so apply now!\nAPPLICATIONS close 27 March 2022 at midnight MST\nParticipants will be notified of their acceptance by 9 April 2022.\nThe GenCyber camp will be held 20-24 June 2022\, 8:45am – 3:45pm at the UCCS campus.\nLed by Dr. Joshua Alcorn\, UCCS cybersecurity professor\, and Terri Johnson\, a local teacher and pioneer in cybersecurity secondary education\, you will be shown hands-on tools & information for use in your high school classroom.
URL:https://coloradospringscybersecurity.com/event/nsa-uccs-gencyber-high-school-teacher-camp-advanced-level/
END:VEVENT
END:VCALENDAR