BEGIN:VCALENDAR
VERSION:2.0
PRODID:-//Colorado Springs Cybersecurity - ECPv5.10.0//NONSGML v1.0//EN
CALSCALE:GREGORIAN
METHOD:PUBLISH
X-WR-CALNAME:Colorado Springs Cybersecurity
X-ORIGINAL-URL:https://coloradospringscybersecurity.com
X-WR-CALDESC:Events for Colorado Springs Cybersecurity
BEGIN:VTIMEZONE
TZID:UTC
BEGIN:STANDARD
TZOFFSETFROM:+0000
TZOFFSETTO:+0000
TZNAME:UTC
DTSTART:20230101T000000
END:STANDARD
END:VTIMEZONE
BEGIN:VEVENT
DTSTART;TZID=UTC:20230220T080000
DTEND;TZID=UTC:20230223T170000
DTSTAMP:20260424T152421
CREATED:20221209T000732Z
LAST-MODIFIED:20221209T000732Z
UID:1329-1676880000-1677171600@coloradospringscybersecurity.com
SUMMARY:Rocky Mountain Cyberspace Symposium (RMC23)
DESCRIPTION:Welcome to the Rocky Mountain Cyberspace Symposium 2023 (RMCS23)! The Rocky Mountain Chapter of AFCEA is honored to once again invite you to our annual forum for industry\, academia\, and government to discuss and propose solutions to the challenges of cybersecurity\, community cyber readiness and homeland defense facing our nation. Our theme this year is “Post-Pandemic Zero Trust.”
URL:https://coloradospringscybersecurity.com/event/rocky-mountain-cyberspace-symposium-rmc23/
LOCATION:The Broadmoor Hotel\, 1 Lake Ave\, Colorado Springs\, CO\, United States
END:VEVENT
END:VCALENDAR